BEGIN:VCALENDAR
VERSION:2.0
PRODID:-//eventon.com NONSGML v1.0//EN
CALSCALE:GREGORIAN
METHOD:PUBLISH
BEGIN:VEVENT
UID:69e4e3dbc8ed8
DTSTAMP:20260419T141659Z
DTSTART:20250228T180000Z
DTEND:20250228T225900Z
LOCATION:Ku(h)lturstall Schmöllner Straße\,  01877 Schmölln-Putzkau
SUMMARY:Fasching
DESCRIPTION:Fasching\nhttps://schmoelln-putzkau.de/veranstaltung/fasching-3
 /
URL:https://schmoelln-putzkau.de/veranstaltung/fasching-3/
END:VEVENT
END:VCALENDAR