BEGIN:VCALENDAR
VERSION:2.0
PRODID:-//eventon.com NONSGML v1.0//EN
CALSCALE:GREGORIAN
METHOD:PUBLISH
BEGIN:VEVENT
UID:69e9e463747ed
DTSTAMP:20260423T092035Z
DTSTART:20250927T120000Z
DTEND:20250927T150000Z
LOCATION:Dorfgemeinschaftszentrum Schulweg 1\,  01877 Schmölln-Putzkau
SUMMARY:Drachenbasteln
DESCRIPTION:Drachenbasteln\nhttps://schmoelln-putzkau.de/veranstaltung/drac
 henbasteln/
URL:https://schmoelln-putzkau.de/veranstaltung/drachenbasteln/
END:VEVENT
END:VCALENDAR