BEGIN:VCALENDAR
VERSION:2.0
PRODID:-//eventon.com NONSGML v1.0//EN
CALSCALE:GREGORIAN
METHOD:PUBLISH
BEGIN:VEVENT
UID:69e76e2a69384
DTSTAMP:20260421T123138Z
DTSTART:20261217
DTEND:20261218
LOCATION:Kindertagesstätte "Zwergenland" Brauereistraße 2\,  01877 Schmölln-Putzkau
SUMMARY:Kinderweihnachtsfeier
DESCRIPTION:Kinderweihnachtsfeier\nhttps://schmoelln-putzkau.de/veranstaltu
 ng/kinderweihnachtsfeier/
URL:https://schmoelln-putzkau.de/veranstaltung/kinderweihnachtsfeier/
END:VEVENT
END:VCALENDAR